BEGIN:VCALENDAR
VERSION:2.0
PRODID:-//University Of Lagos - ECPv6.15.20//NONSGML v1.0//EN
CALSCALE:GREGORIAN
METHOD:PUBLISH
X-ORIGINAL-URL:https://unilag.edu.ng
X-WR-CALDESC:Events for University Of Lagos
REFRESH-INTERVAL;VALUE=DURATION:PT1H
X-Robots-Tag:noindex
X-PUBLISHED-TTL:PT1H
BEGIN:VTIMEZONE
TZID:Africa/Lagos
BEGIN:STANDARD
TZOFFSETFROM:+0100
TZOFFSETTO:+0100
TZNAME:WAT
DTSTART:20240101T000000
END:STANDARD
END:VTIMEZONE
BEGIN:VEVENT
DTSTART;TZID=Africa/Lagos:20251107T100000
DTEND;TZID=Africa/Lagos:20251107T170000
DTSTAMP:20260420T134216
CREATED:20251022T142510Z
LAST-MODIFIED:20251022T142510Z
UID:64128-1762509600-1762534800@unilag.edu.ng
SUMMARY:UNILAG Hosts Public Presentation of How Africa Eats: Trade\, Food Security and Climate Risks\, Nov. 7
DESCRIPTION:The Department of Economics\, University of Lagos (UNILAG) in collaboration with London School of Economics and Friedrich Ebert Stiftung (FES)\, Nigeria Office will hold the Public Book Presentation of How Africa Eats: Trade\, Food Security and Climate Risks as follows:\nDate:        Friday\, November 7\, 2025\nTime:       10:00a.m.\nVenue:     Boardroom 2\, Faculty of Social Sciences\, UNILAG \nMembers of the university community are cordially invited. \n 
URL:https://unilag.edu.ng/event/unilag-hosts-public-presentation-of-how-africa-eats-trade-food-security-and-climate-risks-nov-7/
CATEGORIES:Faculty of Social Sciences
ATTACH;FMTTYPE=image/jpeg:https://unilag.edu.ng/wp-content/uploads/2025/10/Department-of-Engineering-UNILAG-holds-Public-Book-Presentation-.jpg
END:VEVENT
END:VCALENDAR