BEGIN:VCALENDAR
VERSION:2.0
PRODID:-//University Of Lagos - ECPv6.15.20//NONSGML v1.0//EN
CALSCALE:GREGORIAN
METHOD:PUBLISH
X-WR-CALNAME:University Of Lagos
X-ORIGINAL-URL:https://unilag.edu.ng
X-WR-CALDESC:Events for University Of Lagos
REFRESH-INTERVAL;VALUE=DURATION:PT1H
X-Robots-Tag:noindex
X-PUBLISHED-TTL:PT1H
BEGIN:VTIMEZONE
TZID:Africa/Lagos
BEGIN:STANDARD
TZOFFSETFROM:+0100
TZOFFSETTO:+0100
TZNAME:WAT
DTSTART:20240101T000000
END:STANDARD
END:VTIMEZONE
BEGIN:VEVENT
DTSTART;TZID=Africa/Lagos:20250923T080000
DTEND;TZID=Africa/Lagos:20250924T170000
DTSTAMP:20260419T212002
CREATED:20250922T163347Z
LAST-MODIFIED:20250922T163347Z
UID:62311-1758614400-1758733200@unilag.edu.ng
SUMMARY:STDU UNILAG Holds Training for Library Staff\, Sept. 23- 24
DESCRIPTION:The Staff Training and Development Unit (STDU)\, University of Lagos (UNILAG) is set to hold a two-day training for Library Staff as scheduled below:\nDate: Tuesday\, September 23 and Wednesday\, September 24\, 2025\nTime: 8:00 a.m. – 5:00 p.m. daily\nVenue: Faculty of Science Boardroom\, University of Lagos\, Akoka\nTheme: Fostering a Future-Ready University Library: Embracing Innovation and Change \nThe training is designed to equip library staff with the necessary skills and knowledge to support research excellence\, foster lifelong learning\, and provide high-quality services. \nLibrary Staff are enjoined to check their emails for invitations as well as and register to confirm their attendance.
URL:https://unilag.edu.ng/event/stdu-unilag-holds-training-for-library-staff-sept-23-24/
CATEGORIES:UNILAG General Events
ATTACH;FMTTYPE=image/jpeg:https://unilag.edu.ng/wp-content/uploads/2025/09/Library-Training-Flyer.jpeg
END:VEVENT
BEGIN:VEVENT
DTSTART;TZID=Africa/Lagos:20250923T100000
DTEND;TZID=Africa/Lagos:20250925T140000
DTSTAMP:20260419T212002
CREATED:20250922T012807Z
LAST-MODIFIED:20250924T111434Z
UID:62315-1758621600-1758808800@unilag.edu.ng
SUMMARY:3rd Quarter Seminar of QAS Holds\, Sept. 25
DESCRIPTION:The Third Quarter Seminar of the Quality Assurance and SERVICOM Unit\, University of Lagos\, will hold on Thursday\, September 25\, 2025\, at 10:00 a.m. via  Zoom meeting URL: https://bit.ly/UNILAGQASSeminar3  Meeting ID: 843 2607 4185 and Passcode: 737185. \nThe seminar will feature presentations on Building a Safe and Inclusive University Environment: Addressing Unique Vulnerabilities and the Role of Quality Assurance Officers in the University of Lagos\, by the Acting Director of UNILAG Safeguarding Centre\, Dr. Abiola Akiyode-Afolabi and\, Expectations from the Quality Assurance Officers in the Department and Faculties by the immediate past Deputy Director\, Quality Assurance and SERVICOM unit\, Professor Ayodele Omotayo. \nMembers of the University community are cordially invited to join the virtual seminar\, which aims to promote a safe\, inclusive\, and conducive environment for staff\, students\, and visitors.
URL:https://unilag.edu.ng/event/3rd-quarter-seminar-of-qas-holds-sept-25/
CATEGORIES:UNILAG General Events,Webinar
ATTACH;FMTTYPE=image/png:https://unilag.edu.ng/wp-content/uploads/2025/02/Upcoming-Events-UNILAG-Nigeria-2025-light.png
END:VEVENT
BEGIN:VEVENT
DTSTART;TZID=Africa/Lagos:20250924T100000
DTEND;TZID=Africa/Lagos:20250924T120000
DTSTAMP:20260419T212002
CREATED:20250910T132707Z
LAST-MODIFIED:20250910T132707Z
UID:61800-1758708000-1758715200@unilag.edu.ng
SUMMARY:KAAF Specialist Hospital Holds Quarterly Health Information Webinar\, Sept. 24
DESCRIPTION:Kesington Adebukola Adebutu Foundation (KAAF) Specialist Hospital will hold its Quarterly Health Information webinar with the theme: “Sleep Well\, Perform Better: Finding Balance in Work and Studies” on Wednesday\, September 24\, 2025 at 10:00a.m.  \nThe webinar\, which will be delivered by Dr. Tolulope Faloju\, a doctor at KAAF Specialist Hospital\, is aimed at enlightening the university community on the importance of maintaining a healthy sleep routine for a healthier and more productive lifestyle. \nAdequate sleep is one of the most powerful tools for boosting performance in both academics and work. Rested minds think more clearly\, retain information better and remain focused under pressure. Conversely\, poor sleep leads to reduced productivity\, stress and burnout. \nMembers of the university community and public are enjoined to register and attend via https://tinyurl.com/y3z7xtp9
URL:https://unilag.edu.ng/event/kaaf-specialist-hospital-holds-quarterly-health-information-webinar-sept-24/
ATTACH;FMTTYPE=image/jpeg:https://unilag.edu.ng/wp-content/uploads/2025/09/KAAF-Specialist-Hospital-holds-Quartely-Webinar-Series-Sept-24.jpg
END:VEVENT
END:VCALENDAR