BEGIN:VCALENDAR
VERSION:2.0
PRODID:-//University Of Lagos - ECPv6.15.20//NONSGML v1.0//EN
CALSCALE:GREGORIAN
METHOD:PUBLISH
X-WR-CALNAME:University Of Lagos
X-ORIGINAL-URL:https://unilag.edu.ng
X-WR-CALDESC:Events for University Of Lagos
REFRESH-INTERVAL;VALUE=DURATION:PT1H
X-Robots-Tag:noindex
X-PUBLISHED-TTL:PT1H
BEGIN:VTIMEZONE
TZID:Africa/Lagos
BEGIN:STANDARD
TZOFFSETFROM:+0100
TZOFFSETTO:+0100
TZNAME:WAT
DTSTART:20240101T000000
END:STANDARD
END:VTIMEZONE
BEGIN:VEVENT
DTSTART;TZID=Africa/Lagos:20250915T080000
DTEND;TZID=Africa/Lagos:20250915T170000
DTSTAMP:20260419T212309
CREATED:20250915T125421Z
LAST-MODIFIED:20250915T125421Z
UID:62043-1757923200-1757955600@unilag.edu.ng
SUMMARY:42nd PSN Annual Scientific Conference Holds\, September 25 - 26
DESCRIPTION:The Department of Physiology\, Faculty of Basic Medical Sciences\, College of Medicine\, University of Lagos (CMUL) is set to host the 42nd Annual Scientific Conference of the Physiological Society of Nigeria (PSN)as follows: \nDate: Thursday\, September 25 – Friday\, September 26\, 2025\nTime: 9:00 a.m. daily\nVenue: Old Great Hall\, CMUL\, Idi-Araba \nThemed “Artificial Intelligence in Physiology: Exploring the Intersection of Intelligence and Life”\, the Conference will feature a Keynote Speech by Dr. Olusola Sayeed Ayoola\, CEO\, RAIN Robotics. \nThe Conference which will bring together scholars\, researchers\, policymakers\, and industry experts to discuss critical issues in Physiology\, will be preceded by a Pre-Conference Workshop on Wednesday\, September 24\, 2025. Sessions lined up for the workshop include: Introduction to AI for Physiologists\, Mentoring in Physiology\, among others. \nFor sponsorship details and further enquiries\, please contact Prof. B. O. Iranloye (LOC Chairman) via 08037127147 or Dr. G. O. Oludare (LOC Secretary) via 07035363115.
URL:https://unilag.edu.ng/event/42nd-psn-annual-scientific-conference-holds-september-25-26/
CATEGORIES:UNILAG General Events
ATTACH;FMTTYPE=image/jpeg:https://unilag.edu.ng/wp-content/uploads/2025/09/42nd-PSN-Annual-Scientific-Conference-Holds-September-25-26-header.jpeg
END:VEVENT
BEGIN:VEVENT
DTSTART;TZID=Africa/Lagos:20250915T171438
DTEND;TZID=Africa/Lagos:20250915T171438
DTSTAMP:20260419T212309
CREATED:20250915T171346Z
LAST-MODIFIED:20250915T171346Z
UID:62054-1757956478-1757956478@unilag.edu.ng
SUMMARY:Postgraduate Opportunities in Bioengineering at Rice University  
DESCRIPTION:The Department of Bioengineering at Rice University\, United States of America\, invites members of the University of Lagos (UNILAG)\, particularly students\, to attend a two (2) day virtual webinars scheduled as follows: \n\nFunding Your Master’s Programme: Learn about scholarships\, national funding options\, and how to plan financially for graduate studies\n\nDate: Tuesday\, September 16\, 2025       Time: 3:00 p.m. \n\nInternational Student Resources: Find out how Rice University supports international students academically\, socially\, and professionally.\n\nDate: Thursday\, September 18\, 2025 Time: 9:00 a.m. \nThese sessions will provide valuable information about the Master of Bioengineering (MBE) programme at Rice University\, Houston\, Texas. For registration and further details\, please click:  https://epmp.rice.edu/info-sessions
URL:https://unilag.edu.ng/event/postgraduate-opportunities-in-bioengineering-at-rice-university/
CATEGORIES:UNILAG General Events,Webinar
ATTACH;FMTTYPE=image/png:https://unilag.edu.ng/wp-content/uploads/2025/03/Opportunities-UNILAG-Web-Constants-Maroon.png
END:VEVENT
END:VCALENDAR