BEGIN:VCALENDAR
VERSION:2.0
PRODID:-//University Of Lagos - ECPv6.15.20//NONSGML v1.0//EN
CALSCALE:GREGORIAN
METHOD:PUBLISH
X-WR-CALNAME:University Of Lagos
X-ORIGINAL-URL:https://unilag.edu.ng
X-WR-CALDESC:Events for University Of Lagos
REFRESH-INTERVAL;VALUE=DURATION:PT1H
X-Robots-Tag:noindex
X-PUBLISHED-TTL:PT1H
BEGIN:VTIMEZONE
TZID:Africa/Lagos
BEGIN:STANDARD
TZOFFSETFROM:+0100
TZOFFSETTO:+0100
TZNAME:WAT
DTSTART:20240101T000000
END:STANDARD
END:VTIMEZONE
BEGIN:VEVENT
DTSTART;TZID=Africa/Lagos:20250828T120000
DTEND;TZID=Africa/Lagos:20250828T170000
DTSTAMP:20260419T134119
CREATED:20250826T191935Z
LAST-MODIFIED:20250827T063327Z
UID:61209-1756382400-1756400400@unilag.edu.ng
SUMMARY:NITHUB Incubation Demo Day Holds\, August 28
DESCRIPTION:The National Information Technology Development Agency (NITDA) IT Hub\, (NITHub)\, University of Lagos (UNILAG) is set to host the 2025 NITHub Incubation Demo Day as scheduled below: \nDate: Thursday\, August 28\, 2025\nTime: 12:00 p.m.\nVenue: NITHUB\, University of Lagos \nThe Demo Day\, which marks the conclusion of the current incubation cycle in the Hub\, will feature a session where early-stage founders would showcase the innovative solutions they developed during the programme. \nThe NITHub Incubation Demo Day is aimed at highlighting the University’s commitment to tech innovation and entrepreneurship\, as well as its drive to foster the birthing of impactful startups within the University of Lagos community.
URL:https://unilag.edu.ng/event/nithub-incubation-demo-day-holds-august-28/
CATEGORIES:NITHub,UNILAG General Events
ATTACH;FMTTYPE=image/png:https://unilag.edu.ng/wp-content/uploads/2025/02/Upcoming-Events-UNILAG-Nigeria-2025-light-1.png
END:VEVENT
END:VCALENDAR