BEGIN:VCALENDAR
VERSION:2.0
PRODID:-//University Of Lagos - ECPv6.15.20//NONSGML v1.0//EN
CALSCALE:GREGORIAN
METHOD:PUBLISH
X-WR-CALNAME:University Of Lagos
X-ORIGINAL-URL:https://unilag.edu.ng
X-WR-CALDESC:Events for University Of Lagos
REFRESH-INTERVAL;VALUE=DURATION:PT1H
X-Robots-Tag:noindex
X-PUBLISHED-TTL:PT1H
BEGIN:VTIMEZONE
TZID:Africa/Lagos
BEGIN:STANDARD
TZOFFSETFROM:+0100
TZOFFSETTO:+0100
TZNAME:WAT
DTSTART:20230101T000000
END:STANDARD
END:VTIMEZONE
BEGIN:VEVENT
DTSTART;TZID=Africa/Lagos:20240205T090000
DTEND;TZID=Africa/Lagos:20240214T140000
DTSTAMP:20260421T130005
CREATED:20240212T120714Z
LAST-MODIFIED:20240212T131830Z
UID:33836-1707123600-1707919200@unilag.edu.ng
SUMMARY:Schedule of Activities for Election into Executive Positions in Sandwich Programme (2022/2023 Academic Session)
DESCRIPTION:The schedule of activities for election into executive positions in the Sandwich Programme of the University of Lagos (UNILAG) for the 2022/2023 Academic session is as follows: \n\n\n\nS/N\nDate\nActivities\n\n\n1\nMonday\, \n05/02/2024\nMeeting with Sandwich Management\n\n\n2\nTuesday\, \n06/02/2024\nRelease of 2022/2023 Election Guidelines for commencement of the electioneering campaigns in the Sandwich programmes\n\n\n3\nWednesday\, \n07/02/2024\nFormation of Electoral Committees by the Sandwich Management and submission of the lists of Electoral Committees to the Dean of Student Affairs\n\n\n4\nThursday\, \n08/02/2024\nOnline filling and submission of nomination forms\n\n\n5\nFriday\, \n09/02/2024\nCITS generates and submits a list of contestants to the DSA\n\n\n6\nMonday\, \n12/02/2024\nRelease of names of contestants on the University website and Student Affairs Notice Board\n\n\n7\nTuesday\, \n13/02/2024\nPresentation of manifestoes (to end by 6.00p.m.)\n\n\n8\nWednesday\, \n14/02/2024\nElections by e-voting in all Faculties and Departments (to hold between 9.00a.m.-2.00p.m.)\n\n\n\n  \nStudents running the Sandwich Programme should note the following: \n\nThe Sandwich Election Committee shall comprise representatives from each Department involved in Sandwich Programme.\nAll registered students for the 2022/2023 session are eligible to vote.\n\n\nAll final-year students are eligible to vote but not eligible to contest.\nAll 2022/2023 freshers are eligible to vote but not eligible to contest.\nStudents who have matriculated in a post-secondary/higher institution other than the University of Lagos are not eligible to serve in the Electoral Committee or contest for any position.\nManifesto should be presented at the contestants’ faculties and should end by 6.00 p.m. when students are physically on campus. Otherwise\, manifestos should be presented on Sandwich Department and Faculty electronic platforms.\nElections are to start at 9.00 am and close at 2.00 pm. The results of the election will be printed out at CITS in the presence of representatives of contestants\, Security Unit\, Dean of Student Affairs\, Sandwich Management and Chairmen of Electoral Committees. Subsequently\, same result will be posted on the University website.
URL:https://unilag.edu.ng/event/schedule-of-activities-for-election-into-executive-positions-in-sandwich-programme-2022-2023-academic-session/
CATEGORIES:Faculty of Education
END:VEVENT
BEGIN:VEVENT
DTSTART;TZID=Africa/Lagos:20240214T160000
DTEND;TZID=Africa/Lagos:20240214T180000
DTSTAMP:20260421T130005
CREATED:20240206T201354Z
LAST-MODIFIED:20240206T201354Z
UID:33551-1707926400-1707933600@unilag.edu.ng
SUMMARY:UNILAG Library Lovers’ Day 3.0 Holds\, February 14
DESCRIPTION:The third edition of the University of Lagos (UNILAG) Library Lovers’ Day is here again! \nIt’s that time of the year for us all to come together and pay tribute to the heart of our dear community’s academic life – the library. \nAs students\, alumni and staff\, the library has at one point or the other been for us\, a source of invaluable knowledge and discovery. Let us come together to rediscover its wonders through fun action-packed activities planned for the Library Lovers’ Day 3.0. \nDate: Wednesday\, February 14\, 2024\nTime: 4:00 p.m.\nVenue: UNILAG Main Library quadrangle \nThe outdoorsy venue promises to give a magical ambience of excitement and an enchanting evening of laughter\, talent and togetherness. \nBe you an efiko\, a seasoned researcher or a casual reader\, the Library Lovers’ Day 3.0 is the perfect avenue for you to connect with fellow book enthusiasts\, unwind a little and stylistically immerse yourself in the enduring power of the library to inspire\, educate\, and connect us all. \nDon’t keep all the fun to yourself\, share the magical experience through captured moments in time using hashtags: #UNILAGLibraryLoversDay #UNILAGNigeria \nWe look forward to spending this special day with you. See you there!
URL:https://unilag.edu.ng/event/unilag-library-lovers-day-3-0-holds-february-14/
LOCATION:UNILAG Main Library Quadrangle\, Nigeria
CATEGORIES:UNILAG Library
ATTACH;FMTTYPE=image/png:https://unilag.edu.ng/wp-content/uploads/2024/02/UNILAG-Library-Lovers-Day-3.0.png
END:VEVENT
END:VCALENDAR